BEGIN:VCALENDAR
VERSION:2.0
PRODID:-//City of Hermantown - ECPv6.15.17.1//NONSGML v1.0//EN
CALSCALE:GREGORIAN
METHOD:PUBLISH
X-WR-CALNAME:City of Hermantown
X-ORIGINAL-URL:https://hermantownmn.com
X-WR-CALDESC:Events for City of Hermantown
REFRESH-INTERVAL;VALUE=DURATION:PT1H
X-Robots-Tag:noindex
X-PUBLISHED-TTL:PT1H
BEGIN:VTIMEZONE
TZID:America/Chicago
BEGIN:DAYLIGHT
TZOFFSETFROM:-0600
TZOFFSETTO:-0500
TZNAME:CDT
DTSTART:20250309T080000
END:DAYLIGHT
BEGIN:STANDARD
TZOFFSETFROM:-0500
TZOFFSETTO:-0600
TZNAME:CST
DTSTART:20251102T070000
END:STANDARD
BEGIN:DAYLIGHT
TZOFFSETFROM:-0600
TZOFFSETTO:-0500
TZNAME:CDT
DTSTART:20260308T080000
END:DAYLIGHT
BEGIN:STANDARD
TZOFFSETFROM:-0500
TZOFFSETTO:-0600
TZNAME:CST
DTSTART:20261101T070000
END:STANDARD
BEGIN:DAYLIGHT
TZOFFSETFROM:-0600
TZOFFSETTO:-0500
TZNAME:CDT
DTSTART:20270314T080000
END:DAYLIGHT
BEGIN:STANDARD
TZOFFSETFROM:-0500
TZOFFSETTO:-0600
TZNAME:CST
DTSTART:20271107T070000
END:STANDARD
END:VTIMEZONE
BEGIN:VEVENT
DTSTART;TZID=America/Chicago:20260714T170000
DTEND;TZID=America/Chicago:20260714T190000
DTSTAMP:20260423T053521
CREATED:20251121T213330Z
LAST-MODIFIED:20260212T205146Z
UID:7313-1784048400-1784055600@hermantownmn.com
SUMMARY:Board of Appeals & Adjustments
DESCRIPTION:Information and agenda for City of Hermantown meetings can be found in the Public Portal.
URL:/event/board-of-appeals-adjustments-2026-04-14/2026-07-14/
CATEGORIES:Boards and Commissions
END:VEVENT
BEGIN:VEVENT
DTSTART;TZID=America/Chicago:20260716T173000
DTEND;TZID=America/Chicago:20260716T193000
DTSTAMP:20260423T053521
CREATED:20251120T215238Z
LAST-MODIFIED:20251210T143617Z
UID:7351-1784223000-1784230200@hermantownmn.com
SUMMARY:HEDA
DESCRIPTION:Information and agendas for City of Hermantown meetings can be found in the Public Portal.
URL:/event/heda-2026-02-19/2026-07-16/
CATEGORIES:Boards and Commissions
END:VEVENT
BEGIN:VEVENT
DTSTART;TZID=America/Chicago:20260721T163000
DTEND;TZID=America/Chicago:20260721T183000
DTSTAMP:20260423T053521
CREATED:20251120T215605Z
LAST-MODIFIED:20260304T174841Z
UID:7211-1784651400-1784658600@hermantownmn.com
SUMMARY:Park Board
DESCRIPTION:Information and agendas for City of Hermantown meetings can be found in the Public Portal.
URL:/event/park-board-4-2026-04-21/2026-07-21/
CATEGORIES:Boards and Commissions
END:VEVENT
BEGIN:VEVENT
DTSTART;TZID=America/Chicago:20260721T190000
DTEND;TZID=America/Chicago:20260721T210000
DTSTAMP:20260423T053521
CREATED:20251120T220248Z
LAST-MODIFIED:20251120T222157Z
UID:7223-1784660400-1784667600@hermantownmn.com
SUMMARY:Planning & Zoning Commission
DESCRIPTION:Information and agendas for City of Hermantown meetings can be found in the Public Portal.
URL:/event/planning-zoning-commission-2-2026-03-17/2026-07-21/
CATEGORIES:Boards and Commissions
END:VEVENT
BEGIN:VEVENT
DTSTART;TZID=America/Chicago:20260811T170000
DTEND;TZID=America/Chicago:20260811T190000
DTSTAMP:20260423T053521
CREATED:20251121T213330Z
LAST-MODIFIED:20260212T205146Z
UID:7314-1786467600-1786474800@hermantownmn.com
SUMMARY:Board of Appeals & Adjustments
DESCRIPTION:Information and agenda for City of Hermantown meetings can be found in the Public Portal.
URL:/event/board-of-appeals-adjustments-2026-04-14/2026-08-11/
CATEGORIES:Boards and Commissions
END:VEVENT
BEGIN:VEVENT
DTSTART;TZID=America/Chicago:20260818T163000
DTEND;TZID=America/Chicago:20260818T183000
DTSTAMP:20260423T053521
CREATED:20251120T215605Z
LAST-MODIFIED:20260304T174841Z
UID:7212-1787070600-1787077800@hermantownmn.com
SUMMARY:Park Board
DESCRIPTION:Information and agendas for City of Hermantown meetings can be found in the Public Portal.
URL:/event/park-board-4-2026-04-21/2026-08-18/
CATEGORIES:Boards and Commissions
END:VEVENT
BEGIN:VEVENT
DTSTART;TZID=America/Chicago:20260818T190000
DTEND;TZID=America/Chicago:20260818T210000
DTSTAMP:20260423T053521
CREATED:20251120T220248Z
LAST-MODIFIED:20251120T222158Z
UID:7224-1787079600-1787086800@hermantownmn.com
SUMMARY:Planning & Zoning Commission
DESCRIPTION:Information and agendas for City of Hermantown meetings can be found in the Public Portal.
URL:/event/planning-zoning-commission-2-2026-03-17/2026-08-18/
CATEGORIES:Boards and Commissions
END:VEVENT
BEGIN:VEVENT
DTSTART;TZID=America/Chicago:20260820T173000
DTEND;TZID=America/Chicago:20260820T193000
DTSTAMP:20260423T053521
CREATED:20251120T215238Z
LAST-MODIFIED:20251210T143617Z
UID:7352-1787247000-1787254200@hermantownmn.com
SUMMARY:HEDA
DESCRIPTION:Information and agendas for City of Hermantown meetings can be found in the Public Portal.
URL:/event/heda-2026-02-19/2026-08-20/
CATEGORIES:Boards and Commissions
END:VEVENT
BEGIN:VEVENT
DTSTART;TZID=America/Chicago:20260908T170000
DTEND;TZID=America/Chicago:20260908T190000
DTSTAMP:20260423T053521
CREATED:20251121T213330Z
LAST-MODIFIED:20260212T205146Z
UID:7315-1788886800-1788894000@hermantownmn.com
SUMMARY:Board of Appeals & Adjustments
DESCRIPTION:Information and agenda for City of Hermantown meetings can be found in the Public Portal.
URL:/event/board-of-appeals-adjustments-2026-04-14/2026-09-08/
CATEGORIES:Boards and Commissions
END:VEVENT
BEGIN:VEVENT
DTSTART;TZID=America/Chicago:20260910T173000
DTEND;TZID=America/Chicago:20260910T190000
DTSTAMP:20260423T053521
CREATED:20251120T220519Z
LAST-MODIFIED:20260209T160250Z
UID:7444-1789061400-1789066800@hermantownmn.com
SUMMARY:Utility Commission
DESCRIPTION:Information and agendas for City of Hermantown meetings can be found in the Public Portal.
URL:/event/utility-commission-5/2026-09-10/
CATEGORIES:Boards and Commissions
END:VEVENT
BEGIN:VEVENT
DTSTART;TZID=America/Chicago:20260915T163000
DTEND;TZID=America/Chicago:20260915T183000
DTSTAMP:20260423T053521
CREATED:20251120T215605Z
LAST-MODIFIED:20260304T174841Z
UID:7213-1789489800-1789497000@hermantownmn.com
SUMMARY:Park Board
DESCRIPTION:Information and agendas for City of Hermantown meetings can be found in the Public Portal.
URL:/event/park-board-4-2026-04-21/2026-09-15/
CATEGORIES:Boards and Commissions
END:VEVENT
BEGIN:VEVENT
DTSTART;TZID=America/Chicago:20260915T190000
DTEND;TZID=America/Chicago:20260915T210000
DTSTAMP:20260423T053521
CREATED:20251120T220248Z
LAST-MODIFIED:20251120T222158Z
UID:7225-1789498800-1789506000@hermantownmn.com
SUMMARY:Planning & Zoning Commission
DESCRIPTION:Information and agendas for City of Hermantown meetings can be found in the Public Portal.
URL:/event/planning-zoning-commission-2-2026-03-17/2026-09-15/
CATEGORIES:Boards and Commissions
END:VEVENT
BEGIN:VEVENT
DTSTART;TZID=America/Chicago:20260917T173000
DTEND;TZID=America/Chicago:20260917T193000
DTSTAMP:20260423T053521
CREATED:20251120T215238Z
LAST-MODIFIED:20251210T143617Z
UID:7353-1789666200-1789673400@hermantownmn.com
SUMMARY:HEDA
DESCRIPTION:Information and agendas for City of Hermantown meetings can be found in the Public Portal.
URL:/event/heda-2026-02-19/2026-09-17/
CATEGORIES:Boards and Commissions
END:VEVENT
BEGIN:VEVENT
DTSTART;TZID=America/Chicago:20261013T170000
DTEND;TZID=America/Chicago:20261013T190000
DTSTAMP:20260423T053521
CREATED:20251121T213330Z
LAST-MODIFIED:20260212T205146Z
UID:7316-1791910800-1791918000@hermantownmn.com
SUMMARY:Board of Appeals & Adjustments
DESCRIPTION:Information and agenda for City of Hermantown meetings can be found in the Public Portal.
URL:/event/board-of-appeals-adjustments-2026-04-14/2026-10-13/
CATEGORIES:Boards and Commissions
END:VEVENT
BEGIN:VEVENT
DTSTART;TZID=America/Chicago:20261015T173000
DTEND;TZID=America/Chicago:20261015T193000
DTSTAMP:20260423T053521
CREATED:20251120T215238Z
LAST-MODIFIED:20251210T143617Z
UID:7354-1792085400-1792092600@hermantownmn.com
SUMMARY:HEDA
DESCRIPTION:Information and agendas for City of Hermantown meetings can be found in the Public Portal.
URL:/event/heda-2026-02-19/2026-10-15/
CATEGORIES:Boards and Commissions
END:VEVENT
BEGIN:VEVENT
DTSTART;TZID=America/Chicago:20261020T163000
DTEND;TZID=America/Chicago:20261020T183000
DTSTAMP:20260423T053521
CREATED:20251120T215605Z
LAST-MODIFIED:20260304T174841Z
UID:7214-1792513800-1792521000@hermantownmn.com
SUMMARY:Park Board
DESCRIPTION:Information and agendas for City of Hermantown meetings can be found in the Public Portal.
URL:/event/park-board-4-2026-04-21/2026-10-20/
CATEGORIES:Boards and Commissions
END:VEVENT
BEGIN:VEVENT
DTSTART;TZID=America/Chicago:20261020T190000
DTEND;TZID=America/Chicago:20261020T210000
DTSTAMP:20260423T053521
CREATED:20251120T220248Z
LAST-MODIFIED:20251120T222158Z
UID:7226-1792522800-1792530000@hermantownmn.com
SUMMARY:Planning & Zoning Commission
DESCRIPTION:Information and agendas for City of Hermantown meetings can be found in the Public Portal.
URL:/event/planning-zoning-commission-2-2026-03-17/2026-10-20/
CATEGORIES:Boards and Commissions
END:VEVENT
BEGIN:VEVENT
DTSTART;TZID=America/Chicago:20261110T170000
DTEND;TZID=America/Chicago:20261110T190000
DTSTAMP:20260423T053521
CREATED:20251121T213330Z
LAST-MODIFIED:20260212T205146Z
UID:7317-1794330000-1794337200@hermantownmn.com
SUMMARY:Board of Appeals & Adjustments
DESCRIPTION:Information and agenda for City of Hermantown meetings can be found in the Public Portal.
URL:/event/board-of-appeals-adjustments-2026-04-14/2026-11-10/
CATEGORIES:Boards and Commissions
END:VEVENT
BEGIN:VEVENT
DTSTART;TZID=America/Chicago:20261117T163000
DTEND;TZID=America/Chicago:20261117T183000
DTSTAMP:20260423T053521
CREATED:20251120T215605Z
LAST-MODIFIED:20260304T174841Z
UID:7215-1794933000-1794940200@hermantownmn.com
SUMMARY:Park Board
DESCRIPTION:Information and agendas for City of Hermantown meetings can be found in the Public Portal.
URL:/event/park-board-4-2026-04-21/2026-11-17/
CATEGORIES:Boards and Commissions
END:VEVENT
BEGIN:VEVENT
DTSTART;TZID=America/Chicago:20261117T190000
DTEND;TZID=America/Chicago:20261117T210000
DTSTAMP:20260423T053521
CREATED:20251120T220248Z
LAST-MODIFIED:20251120T222158Z
UID:7227-1794942000-1794949200@hermantownmn.com
SUMMARY:Planning & Zoning Commission
DESCRIPTION:Information and agendas for City of Hermantown meetings can be found in the Public Portal.
URL:/event/planning-zoning-commission-2-2026-03-17/2026-11-17/
CATEGORIES:Boards and Commissions
END:VEVENT
BEGIN:VEVENT
DTSTART;TZID=America/Chicago:20261119T173000
DTEND;TZID=America/Chicago:20261119T193000
DTSTAMP:20260423T053521
CREATED:20251120T215238Z
LAST-MODIFIED:20251210T143617Z
UID:7355-1795109400-1795116600@hermantownmn.com
SUMMARY:HEDA
DESCRIPTION:Information and agendas for City of Hermantown meetings can be found in the Public Portal.
URL:/event/heda-2026-02-19/2026-11-19/
CATEGORIES:Boards and Commissions
END:VEVENT
BEGIN:VEVENT
DTSTART;TZID=America/Chicago:20261208T170000
DTEND;TZID=America/Chicago:20261208T190000
DTSTAMP:20260423T053521
CREATED:20251121T213330Z
LAST-MODIFIED:20260212T205147Z
UID:7318-1796749200-1796756400@hermantownmn.com
SUMMARY:Board of Appeals & Adjustments
DESCRIPTION:Information and agenda for City of Hermantown meetings can be found in the Public Portal.
URL:/event/board-of-appeals-adjustments-2026-04-14/2026-12-08/
CATEGORIES:Boards and Commissions
END:VEVENT
BEGIN:VEVENT
DTSTART;TZID=America/Chicago:20261215T163000
DTEND;TZID=America/Chicago:20261215T183000
DTSTAMP:20260423T053521
CREATED:20251120T215605Z
LAST-MODIFIED:20260304T174841Z
UID:7216-1797352200-1797359400@hermantownmn.com
SUMMARY:Park Board
DESCRIPTION:Information and agendas for City of Hermantown meetings can be found in the Public Portal.
URL:/event/park-board-4-2026-04-21/2026-12-15/
CATEGORIES:Boards and Commissions
END:VEVENT
BEGIN:VEVENT
DTSTART;TZID=America/Chicago:20261215T190000
DTEND;TZID=America/Chicago:20261215T210000
DTSTAMP:20260423T053521
CREATED:20251120T220248Z
LAST-MODIFIED:20251120T222158Z
UID:7228-1797361200-1797368400@hermantownmn.com
SUMMARY:Planning & Zoning Commission
DESCRIPTION:Information and agendas for City of Hermantown meetings can be found in the Public Portal.
URL:/event/planning-zoning-commission-2-2026-03-17/2026-12-15/
CATEGORIES:Boards and Commissions
END:VEVENT
BEGIN:VEVENT
DTSTART;TZID=America/Chicago:20261217T173000
DTEND;TZID=America/Chicago:20261217T193000
DTSTAMP:20260423T053521
CREATED:20251120T215238Z
LAST-MODIFIED:20251210T143617Z
UID:7356-1797528600-1797535800@hermantownmn.com
SUMMARY:HEDA
DESCRIPTION:Information and agendas for City of Hermantown meetings can be found in the Public Portal.
URL:/event/heda-2026-02-19/2026-12-17/
CATEGORIES:Boards and Commissions
END:VEVENT
END:VCALENDAR